BEGIN:VCALENDAR
VERSION:2.0
PRODID:-//Open Hearted Transformation - ECPv5.7.0//NONSGML v1.0//EN
CALSCALE:GREGORIAN
METHOD:PUBLISH
X-WR-CALNAME:Open Hearted Transformation
X-ORIGINAL-URL:https://www.openheartedtransformation.com.au
X-WR-CALDESC:Events for Open Hearted Transformation
BEGIN:VTIMEZONE
TZID:UTC
BEGIN:STANDARD
TZOFFSETFROM:+0000
TZOFFSETTO:+0000
TZNAME:UTC
DTSTART:20270101T000000
END:STANDARD
END:VTIMEZONE
BEGIN:VEVENT
DTSTART;TZID=UTC:20270221T140000
DTEND;TZID=UTC:20270227T110000
DTSTAMP:20260425T125659
CREATED:20220923T081215Z
LAST-MODIFIED:20260317T050212Z
UID:2007-1803218400-1803726000@www.openheartedtransformation.com.au
SUMMARY:Deep Ecology Eco-Healing In The Tarkine Wilderness\, Tasmania
DESCRIPTION:Eco-Healing: Deep Ecology & Healing Ecology in the Tarkine Wilderness \nAn experience not to be missed! This is the experiential nature workshop of the year – for the Tarkine is like nowhere else on earth and an unforgettable experience!\nOne of the world’s greatest remaining wild rainforests and the largest temperate rainforest in Australia – 447\,000 hectares of World Heritage significance in the North-West corner of Tasmania. Enter into an ancient slice of Gondwanaland\, with over 60 species of rare and endangered species.\nWe enter the forests of myrtle\, leatherwood and pine tree by foot\, canoe and car\, (you do not have to be very fit). Deep we go\, exploring beyond the surface and immersed in the vast visual beauty\, as we open and strengthen our connections with all beings and the spirit of the country and the energies that create an unique web of life in this ancient ecosystem dating back millenium.\nWe explore that human identity exists at the intersection of the ancient cycles of air\, water and soil. In spite of the pervasive illusion of separation\, in reality no separation is possible between nature and ourselves.\nArne Naess\, Emeritus Professor of Philosophy at Oslo University\, suggested that what is needed are community therapies “healing our relations to the widest community\, that of all living beings”. By acknowledging our interconnectedness we invite the spontaneous healing of the psyche.\nIn this workshop we participate in a series of processes and rituals informed by a vast range of practices some used by indigenous peoples throughout time\, others are specifically designed from modern cutting-edge discoveries.\nUsing personal sharing\, reflection\, experiential Healing Ecology – the two way process of healing the earth and the earth healing us – experiential Deep Ecology – the dissolving of separation between human and nature and Sacred Ecology – tapping into the reverence and sacredness of nature and all beings\, we explore by car\, foot\, canoe and senses\, where we allow the vision and empowerment arise naturally from realigning ourselves with the living Earth.\n\nDates: 21-27 February 2027\nDeep Ecology Retreat\, Corinna. $1450 full or $1200 conc/low income                                                               (early bird prices till 20 Jan 2027: $1250 full or $995 conc)\nPrices include all accommodation (in shared rooms or byo tent)\, meals\, materials\, equipment hire and facilitation. \nA $250 deposit will secure your place. To book visit https://www.trybooking.com/events/landing/1556071\nWe recommend people arriving from outside Tasmania fly or ferry to Tasmania the day before\, in case of delays\, so that we can start on time.\nPlease let us know any questions here\n\n\nFacilitators:\nPhoenix Arrien: I am passionate about supporting people’s journeys towards connection with themselves\, others and nature for personal and community\, healing and transformation. I believe that deep listening\, safe space\, supportive community and connection to the natural environment can help provide paths to a happier life and a better world.\nShe is a workshop facilitator with 30 years experience working with people in personal development\, healing & nature. Her training and experience includes Deep Ecology\, Somatic Psychology\, Jungian psychology\, counselling\, Equine Therapy\, Core Shamanic practice\, Australian indigenous healing\, Cherokee and Maori bodywork\, Native American and South American healing\, dance/movement\, Adventure-based Counselling\, Process-oriented Psychology\, Voice Dialogue\, Inner Constellations\, Deep Ecology\, Healing Ecology\, massage\, Reiki\, writing and meditation.\nShe has a deep interest in Deep Ecology\, Healing Ecology\, Sacred Ecology\, Eco-psychology\, shamanic traditions\, indigenous healing\, community and wild places.\n  \n\n\n Mike Lowe has over 20 years international experience leading transformational workshops in the areas of trustbuilding\, reconciliation and inner growth.\n\n His has a gift for creating safe spaces in which transformation can occur. Mike’s training includes courses with the Foundation for Shamanic Studies\, the Centre for Applied Jungian Studies and the Coyote Institute. He has a particular interest in earth-based spirituality\, deep ecology and indigenous wisdom.\n\n\n\n\n\n\n\n\n\n\n\n\n\n\n\n\n\n\n\n\n\n\n\n\n\n\n\n\n\n\n\n\n\n\n\n\n\n\n\n\n\n\n\n\n\nWhat other’s experienced:\n\n“It’s been a month and I still feel ongoing positive change in myself after the Tarkine\, a definite shift in my ability to love and be kind and accepting to myself which is such a blessed relief and all thanks to you guys. (And so amazing after EVERYTHING I’ve tried) I think of you all often with love ‘n gratitude” – Dale Shaddick\n“I am more ready than ever to get out closer to the wilderness and embrace a new job\, scene and lifestyle. It was such an amazing opportunity down in the Tarkine to set some intentions and heed the calls to open some new doors and windows.” – Naomi Smith\nAn amazing 5 days in the Tarkine – in a sacred space that you crated. Yes we co-created but you created that space for us to grow into. That’s magic.’ – Phil Harrington\nMy Mother Tree connecting me to the earth…….. a 4000 year old Huon Pine deep in the Tarkine (Tasmania). Such happiness and emotion after a long\, deep\, meaningful and often painful journey to finally be connected to find peace and contentment in my life. Thank you Mother Earth. Thank you to facilitators Phoenix Arrien and Mike Lowe for guiding our ‘journey…’ – Andrew Browne\n”I feel so deeply transformed after experiencing the Eco Healing Adventure in the Tarkine with Phoenix and Mike. I experienced such deep connection to myself\, the other particpants and Source through the magic of the Tarkine Wilderness and the profound and powerful processes that our Facilitators guided us through.\nPhoenix and Mike created a safe sacred space for authentic relating\, allowing participants to unfold\, release and transform in their own natural rhythm. It was such an honour to be a part of a process that enabled men and women to come together in this way and to witness\, honour and bless each others journey as we brought our shadows into the light and worked through the processes in a very real way\, enabling us to express our rawness and our vulnerability and be held safely in this space.\nWhat I loved most about this retreat was that the Facilitators were an equal part of our group\, experiencing the journey for themselves as well as holding the space. It was very humbling and made it a very real experience for me – we were all traversing this together. Rather than being dictated to by experts Mike and Phoenix skillfully opened the space for each participant’s inner wisdom to shine through and guide their own journey through the process. I highly recommend this experience for anyone wanting to experience deep connection on all levels” – Christina Reeves\n“The greatest gift of space and time – to re-discover self\, connect with the energy that nurtures. To lie in the safe embrace of deep rooted forest. To breathe deep and remember I am part and always coupled with these trees\, rocks\, insects and animals. At times risky\, but with all new adventures are. To find childlike joy in the play of the breeze in the leaves to a profound conversation with the spirit of the myrtle beech giant. It is and will always be a gift to myself – these 4 days :-)” – Cass\nWhat a great experience. The forest \, swimming\, kayaking – a first for me – have loved it all. Thank you\, may the journey continue.” – Cynthia\n“Laugh\, new friend. A new community\, a furthering and extending of a special web. A new seeing\, a learning to smell\, breathe\, touch and take in nature and an urgency to protect her.” Love\, Rob
URL:https://www.openheartedtransformation.com.au/event/eco-healing-in-the-tarkine-wilderness-tasmania/
LOCATION:Corinna\, Tasmania\, Australia
ORGANIZER;CN="Innate%20Wisdom%20Connection":MAILTO:info@innatewisdomconnection.com.au
END:VEVENT
END:VCALENDAR